BEGIN:VCALENDAR
VERSION:2.0
PRODID:DPCALENDAR
CALSCALE:GREGORIAN
BEGIN:VTIMEZONE
TZID:Europe/Berlin
X-MICROSOFT-CDO-TZID:4
BEGIN:STANDARD
DTSTART:20251026T010000
TZOFFSETFROM:+0200
TZOFFSETTO:+0100
TZNAME:CET
END:STANDARD
BEGIN:STANDARD
DTSTART:20261025T010000
TZOFFSETFROM:+0200
TZOFFSETTO:+0100
TZNAME:CET
END:STANDARD
BEGIN:DAYLIGHT
DTSTART:20260329T010000
TZOFFSETFROM:+0100
TZOFFSETTO:+0200
TZNAME:CEST
END:DAYLIGHT
END:VTIMEZONE
X-WR-TIMEZONE:Europe/Berlin
BEGIN:VEVENT
DTSTART;TZID=Europe/Berlin:20220522T150000
DTEND;TZID=Europe/Berlin:20220522T160000
UID:A8A372CD-B797-4F8B-841F-84286FF16A29
SUMMARY:Bilder einer Ausstellung
CREATED:20220423T113029Z
DTSTAMP:20220423T113029Z
URL:https://www.musikgesellschaft-bellenberg.de/termine/bilder-einer-ausstellung
X-ACCESS:1
X-HITS:388
X-COLOR:3366cc
X-SHOW-END-TIME:0
END:VEVENT
BEGIN:VEVENT
DTSTART;TZID=Europe/Berlin:20220624T200000
DTEND;TZID=Europe/Berlin:20220624T210000
UID:B5A266E4-0B29-45F5-A39A-76EE35386073
SUMMARY:ABGESAGT! Partyshot Bellenberg
CREATED:20220527T072241Z
DTSTAMP:20220527T072241Z
URL:https://www.musikgesellschaft-bellenberg.de/termine/partyshot-bellenberg
LAST-MODIFIED:20220624T125354Z
SEQUENCE:2439073
X-ACCESS:1
X-HITS:403
X-COLOR:3366cc
X-SHOW-END-TIME:0
END:VEVENT
BEGIN:VEVENT
DTSTART;TZID=Europe/Berlin:20220626T110000
DTEND;TZID=Europe/Berlin:20220626T220000
UID:75289F8C-BE92-459F-8A1E-82DAA77950D2
SUMMARY:Waldfest Bellenberg
CREATED:20220527T072215Z
DTSTAMP:20220527T072215Z
URL:https://www.musikgesellschaft-bellenberg.de/termine/waldfest-bellenberg
X-ACCESS:1
X-HITS:589
X-COLOR:3366cc
X-SHOW-END-TIME:1
END:VEVENT
BEGIN:VEVENT
DTSTART;TZID=Europe/Berlin:20220701T200000
DTEND;TZID=Europe/Berlin:20220701T210000
UID:C5B0BFE8-3178-4286-9562-263D4BABCA19
SUMMARY:ABGESAGT! Partyshot Bellenberg (Ausweichtermin)
CREATED:20220527T072334Z
DTSTAMP:20220527T072334Z
URL:https://www.musikgesellschaft-bellenberg.de/termine/partyshot-bellenberg-ausweichtermin
LAST-MODIFIED:20220624T125525Z
SEQUENCE:2439111
X-ACCESS:1
X-HITS:277
X-COLOR:3366cc
X-SHOW-END-TIME:0
END:VEVENT
BEGIN:VEVENT
DTSTART;TZID=Europe/Berlin:20220703T110000
DTEND;TZID=Europe/Berlin:20220703T220000
UID:2EE373B8-4A25-4131-B157-730FC084D470
SUMMARY:Waldfest Bellenberg (Ausweichtermin)
CREATED:20220527T072310Z
DTSTAMP:20220527T072310Z
URL:https://www.musikgesellschaft-bellenberg.de/termine/waldfest-bellenberg-ausweichtermin
X-ACCESS:1
X-HITS:268
X-COLOR:3366cc
X-SHOW-END-TIME:1
END:VEVENT
BEGIN:VEVENT
DTSTART;TZID=Europe/Berlin:20230325T200000
DTEND;TZID=Europe/Berlin:20230325T235900
UID:88966ABE-7A6A-488A-A9D6-4AF6E24F1EE1
SUMMARY:Starkbierfest
CREATED:20230113T180902Z
DTSTAMP:20230113T180902Z
URL:https://www.musikgesellschaft-bellenberg.de/termine/starkbierfest
X-ACCESS:1
X-HITS:502
X-COLOR:3366cc
X-SHOW-END-TIME:0
END:VEVENT
BEGIN:VEVENT
DTSTART;TZID=Europe/Berlin:20230616T200000
DTEND;TZID=Europe/Berlin:20230616T210000
UID:8F9BF271-EBFD-4E6A-A883-AADEFBEBE963
SUMMARY:Partyshot
CREATED:20230113T181113Z
DTSTAMP:20230113T181113Z
URL:https://www.musikgesellschaft-bellenberg.de/termine/partyshot
X-ACCESS:1
X-HITS:1290
X-COLOR:3366cc
X-SHOW-END-TIME:0
END:VEVENT
BEGIN:VEVENT
DTSTART;TZID=Europe/Berlin:20230618T110000
DTEND;TZID=Europe/Berlin:20230618T120000
UID:5F954FA5-76AF-4BDD-A69A-F0E9FA9F99FB
SUMMARY:Waldfest
CREATED:20230113T181143Z
DTSTAMP:20230113T181143Z
URL:https://www.musikgesellschaft-bellenberg.de/termine/waldfest
X-ACCESS:1
X-HITS:711
X-COLOR:3366cc
X-SHOW-END-TIME:0
END:VEVENT
BEGIN:VEVENT
DTSTART;TZID=Europe/Berlin:20231225T193000
DTEND;TZID=Europe/Berlin:20231225T223000
UID:12378E43-642F-415D-833F-5E16E69416CF
SUMMARY:Weihnachtskonzert
CREATED:20230105T174552Z
DTSTAMP:20230105T174552Z
URL:https://www.musikgesellschaft-bellenberg.de/termine/weihnachtskonzert-2
LAST-MODIFIED:20231225T174628Z
SEQUENCE:30585636
X-ACCESS:1
X-HITS:574
X-COLOR:3366cc
X-SHOW-END-TIME:0
END:VEVENT
BEGIN:VEVENT
DTSTART;TZID=Europe/Berlin:20240607T200000
DTEND;TZID=Europe/Berlin:20240607T210000
UID:B197B7B7-0DDF-428B-A11E-A98D05ADB9B5
SUMMARY:ABGESAGT - Partyshot
CREATED:20240121T135144Z
DTSTAMP:20240121T135144Z
URL:https://www.musikgesellschaft-bellenberg.de/termine/partyshot-2
LAST-MODIFIED:20240605T170739Z
SEQUENCE:11762155
LOCATION:Schulstr. 7\, 89287 Bellenberg\, Deutschland
GEO:48.25688414;10.09077113
X-LOCATION-DISPLAYNAME:Bolzplatz Bellenberg
X-ACCESS:1
X-HITS:371
X-COLOR:3366cc
X-SHOW-END-TIME:0
END:VEVENT
BEGIN:VEVENT
DTSTART;TZID=Europe/Berlin:20240609T110000
DTEND;TZID=Europe/Berlin:20240609T210000
UID:31F097FD-562B-4391-95B2-771F03AB306C
SUMMARY:ABGESAGT - Waldfest
CREATED:20240121T135545Z
DTSTAMP:20240121T135545Z
URL:https://www.musikgesellschaft-bellenberg.de/termine/waldfest-2
LAST-MODIFIED:20240605T170750Z
SEQUENCE:11761925
LOCATION:Schulstr. 7\, 89287 Bellenberg\, Deutschland
GEO:48.25688414;10.09077113
X-LOCATION-DISPLAYNAME:Bolzplatz Bellenberg
X-ACCESS:1
X-HITS:311
X-COLOR:3366cc
X-SHOW-END-TIME:0
END:VEVENT
BEGIN:VEVENT
DTSTART;TZID=Europe/Berlin:20240612T170000
DTEND;TZID=Europe/Berlin:20240612T190000
UID:6E7D6147-D09C-4F90-9B04-F79DAB8AA6B6
SUMMARY:Infoabend der Musikgesellschaft
CREATED:20240604T164324Z
DTSTAMP:20240604T164324Z
URL:/aktuelles/archiv-2024/305-infoabend-der-musikgesellschaft
LAST-MODIFIED:20240604T164445Z
SEQUENCE:81
X-ACCESS:1
X-HITS:8
X-COLOR:3366cc
X-SHOW-END-TIME:1
END:VEVENT
BEGIN:VEVENT
DTSTART;TZID=Europe/Berlin:20241019T200000
DTEND;TZID=Europe/Berlin:20241019T200000
UID:5E4AA8FF-9A10-4011-8B1D-951248DB5582
SUMMARY:Weinfest Bellenberg
CREATED:20240802T153753Z
DTSTAMP:20240802T153753Z
URL:https://www.musikgesellschaft-bellenberg.de/termine/weinfest-bellenberg
DESCRIPTION:Uhrzeit und weitere Details werden noch bekanntgegeben
X-ALT-DESC;FMTTYPE=text/html:<p>Uhrzeit und weitere Details werden noch bekanntgegeben</p>
LAST-MODIFIED:20240916T154156Z
SEQUENCE:3888243
X-ACCESS:1
X-HITS:973
X-COLOR:3366cc
X-SHOW-END-TIME:0
END:VEVENT
BEGIN:VEVENT
DTSTART;TZID=Europe/Berlin:20250117T193000
DTEND;TZID=Europe/Berlin:20250117T203000
UID:F090133D-8E81-4015-8074-C514817799D9
SUMMARY:Generalversammlung 
CREATED:20250108T093028Z
DTSTAMP:20250108T093028Z
URL:https://www.musikgesellschaft-bellenberg.de/termine/generalversammlung
LAST-MODIFIED:20250108T093028Z
SEQUENCE:0
X-ACCESS:1
X-HITS:104
X-COLOR:3366cc
X-SHOW-END-TIME:0
END:VEVENT
BEGIN:VEVENT
DTSTART;TZID=Europe/Berlin:20250405T200000
DTEND;TZID=Europe/Berlin:20250405T210000
UID:E4D12A5C-FD7E-408D-A90E-D1AD4B7B597F
SUMMARY:Starkbierfest
CREATED:20250118T171616Z
DTSTAMP:20250118T171616Z
URL:https://www.musikgesellschaft-bellenberg.de/termine/starkbierfest-3
LAST-MODIFIED:20250118T171616Z
SEQUENCE:0
X-ACCESS:1
X-HITS:455
X-COLOR:3366cc
X-SHOW-END-TIME:0
END:VEVENT
BEGIN:VEVENT
DTSTART;TZID=Europe/Berlin:20250504T170000
DTEND;TZID=Europe/Berlin:20250504T180000
UID:54512162-7A74-46BC-AE04-D390345866D8
SUMMARY:Konzert Jugendkapelle Illersound
CREATED:20250427T173721Z
DTSTAMP:20250427T173721Z
URL:https://www.musikgesellschaft-bellenberg.de/termine/konzert-jugendkapelle-illersound
LAST-MODIFIED:20250427T174357Z
SEQUENCE:396
LOCATION:Schulplatz 1\, 89281 Altenstadt\, Bayern\, Deutschland
GEO:0.00000000;0.00000000
X-LOCATION-DISPLAYNAME:Altenstadt
X-ACCESS:1
X-HITS:125
X-COLOR:3366cc
X-SHOW-END-TIME:0
END:VEVENT
BEGIN:VEVENT
DTSTART;TZID=Europe/Berlin:20250627T190000
DTEND;TZID=Europe/Berlin:20250627T200000
UID:42773565-B625-43F3-A422-E83611F30F21
SUMMARY:Partyshot
CREATED:20250118T174052Z
DTSTAMP:20250118T174052Z
URL:https://www.musikgesellschaft-bellenberg.de/termine/partyshot-3
LAST-MODIFIED:20250118T174052Z
SEQUENCE:0
X-ACCESS:1
X-HITS:490
X-COLOR:3366cc
X-SHOW-END-TIME:0
END:VEVENT
BEGIN:VEVENT
DTSTART;TZID=Europe/Berlin:20250629T110000
DTEND;TZID=Europe/Berlin:20250629T120000
UID:BCA57E03-98A4-49AE-8FE9-A562AB131487
SUMMARY:Waldfest
CREATED:20250118T174129Z
DTSTAMP:20250118T174129Z
URL:https://www.musikgesellschaft-bellenberg.de/termine/waldfest-3
LAST-MODIFIED:20250118T174129Z
SEQUENCE:0
X-ACCESS:1
X-HITS:331
X-COLOR:3366cc
X-SHOW-END-TIME:0
END:VEVENT
BEGIN:VEVENT
DTSTART;VALUE=DATE:20251206
DTEND;VALUE=DATE:20251208
UID:713A8581-7945-4668-B349-7C2044F039B9
SUMMARY:Weihnachtsmarkt Bellenberg
CREATED:20250118T174335Z
DTSTAMP:20250118T174335Z
URL:https://www.musikgesellschaft-bellenberg.de/termine/weihnachtsmarkt-bellenberg
LAST-MODIFIED:20250118T174335Z
SEQUENCE:0
X-ACCESS:1
X-HITS:846
X-COLOR:3366cc
X-SHOW-END-TIME:1
END:VEVENT
BEGIN:VEVENT
DTSTART;TZID=Europe/Berlin:20260321T200000
DTEND;TZID=Europe/Berlin:20260321T210000
UID:FD37F050-B057-4904-9940-1408B5120265
SUMMARY:Starkbierfest
CREATED:20251223T150925Z
DTSTAMP:20251223T150925Z
URL:https://www.musikgesellschaft-bellenberg.de/termine/starkbierfest-4
LAST-MODIFIED:20260125T174740Z
SEQUENCE:2860695
X-ACCESS:1
X-HITS:484
X-COLOR:3366cc
X-SHOW-END-TIME:0
END:VEVENT
BEGIN:VEVENT
DTSTART;TZID=Europe/Berlin:20260612T190000
DTEND;TZID=Europe/Berlin:20260612T200000
UID:15A6EDEA-DEA6-4856-8E1D-DAD84565A25D
SUMMARY:Partyshot
CREATED:20251223T151431Z
DTSTAMP:20251223T151431Z
URL:https://www.musikgesellschaft-bellenberg.de/termine/partyshot-4
LAST-MODIFIED:20251223T151431Z
SEQUENCE:0
X-ACCESS:1
X-HITS:257
X-COLOR:3366cc
X-SHOW-END-TIME:0
END:VEVENT
BEGIN:VEVENT
DTSTART;TZID=Europe/Berlin:20260614T110000
DTEND;TZID=Europe/Berlin:20260614T120000
UID:4889962D-A149-4952-8DFE-2A96E8CDFCEA
SUMMARY:Waldfest
CREATED:20251223T151509Z
DTSTAMP:20251223T151509Z
URL:https://www.musikgesellschaft-bellenberg.de/termine/waldfest-4
LAST-MODIFIED:20251223T151509Z
SEQUENCE:0
X-ACCESS:1
X-HITS:139
X-COLOR:3366cc
X-SHOW-END-TIME:0
END:VEVENT
END:VCALENDAR