BEGIN:VCALENDAR
VERSION:2.0
PRODID:DPCALENDAR
CALSCALE:GREGORIAN
BEGIN:VTIMEZONE
TZID:Europe/Berlin
X-MICROSOFT-CDO-TZID:4
BEGIN:STANDARD
DTSTART:20251026T010000
TZOFFSETFROM:+0200
TZOFFSETTO:+0100
TZNAME:CET
END:STANDARD
BEGIN:STANDARD
DTSTART:20261025T010000
TZOFFSETFROM:+0200
TZOFFSETTO:+0100
TZNAME:CET
END:STANDARD
BEGIN:DAYLIGHT
DTSTART:20260329T010000
TZOFFSETFROM:+0100
TZOFFSETTO:+0200
TZNAME:CEST
END:DAYLIGHT
END:VTIMEZONE
X-WR-TIMEZONE:Europe/Berlin
BEGIN:VEVENT
DTSTART;TZID=Europe/Berlin:20220430T180000
DTEND;TZID=Europe/Berlin:20220430T200000
UID:0E980A91-BED3-4644-AF49-7D15D567771D
SUMMARY:Maibaumfeier
CREATED:20220314T181457Z
DTSTAMP:20220314T181457Z
URL:https://www.musikgesellschaft-bellenberg.de/termine/maibaumfeier
LAST-MODIFIED:20220410T080429Z
SEQUENCE:2296172
X-ACCESS:1
X-HITS:435
X-COLOR:3366cc
X-SHOW-END-TIME:1
END:VEVENT
BEGIN:VEVENT
DTSTART;TZID=Europe/Berlin:20220526T110000
DTEND;TZID=Europe/Berlin:20220526T150000
UID:CFAE56B2-0271-44B4-8E73-509F4F457489
SUMMARY:Spätzle- und Weißbierfest
CREATED:20220410T080627Z
DTSTAMP:20220410T080627Z
URL:https://www.musikgesellschaft-bellenberg.de/termine/spaetzle-und-weissbierfest
LAST-MODIFIED:20220410T080858Z
SEQUENCE:151
LOCATION:89257 Illertissen\, Bayern\, Deutschland
GEO:48.20296700;10.11530970
X-LOCATION-DISPLAYNAME:Betlinshausen
X-ACCESS:1
X-HITS:728
X-COLOR:3366cc
X-SHOW-END-TIME:1
END:VEVENT
BEGIN:VEVENT
DTSTART;TZID=Europe/Berlin:20220611T173000
DTEND;TZID=Europe/Berlin:20220611T200000
UID:440CC45D-7B06-4AB8-83BB-BC76B921B2FD
SUMMARY:Biergarten Illerberg
CREATED:20220527T063632Z
DTSTAMP:20220527T063632Z
URL:https://www.musikgesellschaft-bellenberg.de/termine/biergarten-illerberg
X-ACCESS:1
X-HITS:299
X-COLOR:3366cc
X-SHOW-END-TIME:1
END:VEVENT
BEGIN:VEVENT
DTSTART;TZID=Europe/Berlin:20220616T093000
DTEND;TZID=Europe/Berlin:20220616T110000
UID:181ECAA5-0E32-4C88-8C93-3EF3B194A5AA
SUMMARY:Fronleichnamsprozession
CREATED:20220527T071602Z
DTSTAMP:20220527T071602Z
URL:https://www.musikgesellschaft-bellenberg.de/termine/fronleichnam
LAST-MODIFIED:20220527T071627Z
SEQUENCE:25
X-ACCESS:1
X-HITS:303
X-COLOR:3366cc
X-SHOW-END-TIME:1
END:VEVENT
BEGIN:VEVENT
DTSTART;TZID=Europe/Berlin:20220618T190000
DTEND;TZID=Europe/Berlin:20220618T230000
UID:6A25902A-C4ED-4552-B8E9-4241DA95DBFE
SUMMARY:Blechle am Bächle Attenhofen
CREATED:20220527T071713Z
DTSTAMP:20220527T071713Z
URL:https://www.musikgesellschaft-bellenberg.de/termine/blechle-am-baechle-attenhofen
X-ACCESS:1
X-HITS:289
X-COLOR:3366cc
X-SHOW-END-TIME:1
END:VEVENT
BEGIN:VEVENT
DTSTART;TZID=Europe/Berlin:20220717T093000
DTEND;TZID=Europe/Berlin:20220717T140000
UID:4D6A4DE2-093E-48EA-B54A-A1AEEB37892F
SUMMARY:Dorffest Bellenberg
CREATED:20220527T071806Z
DTSTAMP:20220527T071806Z
URL:https://www.musikgesellschaft-bellenberg.de/termine/dorffest-bellenberg
X-ACCESS:1
X-HITS:395
X-COLOR:3366cc
X-SHOW-END-TIME:1
END:VEVENT
BEGIN:VEVENT
DTSTART;VALUE=DATE:20220925
DTEND;VALUE=DATE:20220926
UID:C7122246-B10A-437C-9CE8-551A1655A07B
SUMMARY:Frühschoppen Schwarzenberghütte
CREATED:20220527T071923Z
DTSTAMP:20220527T071923Z
URL:https://www.musikgesellschaft-bellenberg.de/termine/fruehschoppen-schwarzenberghuette
X-ACCESS:1
X-HITS:479
X-COLOR:3366cc
X-SHOW-END-TIME:1
END:VEVENT
BEGIN:VEVENT
DTSTART;VALUE=DATE:20221101
DTEND;VALUE=DATE:20221102
UID:7892B7A4-F4AD-40E5-B31F-4B7D3CE98693
SUMMARY:Allerheiligen
CREATED:20220527T071945Z
DTSTAMP:20220527T071945Z
URL:https://www.musikgesellschaft-bellenberg.de/termine/allerheiligen
X-ACCESS:1
X-HITS:591
X-COLOR:3366cc
X-SHOW-END-TIME:1
END:VEVENT
BEGIN:VEVENT
DTSTART;TZID=Europe/Berlin:20221113T093000
DTEND;TZID=Europe/Berlin:20221113T103000
UID:5E2ADD2D-C737-4721-B1F1-69F94E1868CD
SUMMARY:Volkstrauertag
CREATED:20220527T072016Z
DTSTAMP:20220527T072016Z
URL:https://www.musikgesellschaft-bellenberg.de/termine/volkstrauertag
X-ACCESS:1
X-HITS:570
X-COLOR:3366cc
X-SHOW-END-TIME:0
END:VEVENT
BEGIN:VEVENT
DTSTART;TZID=Europe/Berlin:20221224T220000
DTEND;TZID=Europe/Berlin:20221224T230000
UID:700747FD-18D4-40AA-ADA6-0508545F3A7E
SUMMARY:Turmblasen
CREATED:20220527T072057Z
DTSTAMP:20220527T072057Z
URL:https://www.musikgesellschaft-bellenberg.de/termine/turmblasen
X-ACCESS:1
X-HITS:662
X-COLOR:3366cc
X-SHOW-END-TIME:0
END:VEVENT
BEGIN:VEVENT
DTSTART;TZID=Europe/Berlin:20221225T193000
DTEND;TZID=Europe/Berlin:20221225T230000
UID:53FF444C-7655-4843-B20B-17D90B3F3B9E
SUMMARY:Weihnachtskonzert
CREATED:20220527T072140Z
DTSTAMP:20220527T072140Z
URL:https://www.musikgesellschaft-bellenberg.de/termine/weihnachtskonzert
X-ACCESS:1
X-HITS:492
X-COLOR:3366cc
X-SHOW-END-TIME:0
END:VEVENT
BEGIN:VEVENT
DTSTART;VALUE=DATE:20230225
DTEND;VALUE=DATE:20230226
UID:9F94BE38-9380-49BB-A4AA-4D19602104F9
SUMMARY:Funkenfeuer
CREATED:20230113T180737Z
DTSTAMP:20230113T180737Z
URL:https://www.musikgesellschaft-bellenberg.de/termine/funkenfeuer
X-ACCESS:1
X-HITS:1016
X-COLOR:3366cc
X-SHOW-END-TIME:0
END:VEVENT
BEGIN:VEVENT
DTSTART;TZID=Europe/Berlin:20230430T180000
DTEND;TZID=Europe/Berlin:20230430T190000
UID:FC793489-BB49-486C-BF5B-BC05D7A64F38
SUMMARY:Maibaumfeier
CREATED:20230113T180932Z
DTSTAMP:20230113T180932Z
URL:https://www.musikgesellschaft-bellenberg.de/termine/maibaumfeier-2
X-ACCESS:1
X-HITS:842
X-COLOR:3366cc
X-SHOW-END-TIME:0
END:VEVENT
BEGIN:VEVENT
DTSTART;TZID=Europe/Berlin:20230518T163000
DTEND;TZID=Europe/Berlin:20230518T210000
UID:3975BA50-787D-4965-8977-A4B3F8772D2A
SUMMARY:Dorffest Gannertshofen
CREATED:20230403T142511Z
DTSTAMP:20230403T142511Z
URL:https://www.musikgesellschaft-bellenberg.de/termine/dorffest-gannertshofen
X-ACCESS:1
X-HITS:367
X-COLOR:3366cc
X-SHOW-END-TIME:1
END:VEVENT
BEGIN:VEVENT
DTSTART;TZID=Europe/Berlin:20230608T093000
DTEND;TZID=Europe/Berlin:20230608T110000
UID:1E2A829B-48A1-4DC6-9659-FDB9565BACBD
SUMMARY:Fronleichnamsprozession
CREATED:20230113T181030Z
DTSTAMP:20230113T181030Z
URL:https://www.musikgesellschaft-bellenberg.de/termine/fronleichnamsprozession
LAST-MODIFIED:20230113T181550Z
SEQUENCE:320
X-ACCESS:1
X-HITS:572
X-COLOR:3366cc
X-SHOW-END-TIME:1
END:VEVENT
BEGIN:VEVENT
DTSTART;TZID=Europe/Berlin:20230611T143000
DTEND;TZID=Europe/Berlin:20230611T153000
UID:DBBD3BD3-DEA2-490D-83D3-29FB85A03479
SUMMARY:Festumzug Unterroth
CREATED:20230403T142627Z
DTSTAMP:20230403T142627Z
URL:https://www.musikgesellschaft-bellenberg.de/termine/festumzug-unterroth
LAST-MODIFIED:20230414T165134Z
SEQUENCE:959107
X-ACCESS:1
X-HITS:388
X-COLOR:3366cc
X-SHOW-END-TIME:0
END:VEVENT
BEGIN:VEVENT
DTSTART;TZID=Europe/Berlin:20230702T101500
DTEND;TZID=Europe/Berlin:20230702T150000
UID:E6FCECD3-E256-415B-9FDB-CCA0534C7E8F
SUMMARY:Pfarrgartenfest
CREATED:20230113T181224Z
DTSTAMP:20230113T181224Z
URL:https://www.musikgesellschaft-bellenberg.de/termine/pfarrgartenfest
LAST-MODIFIED:20230702T061905Z
SEQUENCE:14645201
X-ACCESS:1
X-HITS:378
X-COLOR:3366cc
X-SHOW-END-TIME:1
END:VEVENT
BEGIN:VEVENT
DTSTART;TZID=Europe/Berlin:20230709T160000
DTEND;TZID=Europe/Berlin:20230709T210000
UID:D1771F65-89A4-4205-8E6C-6D1D68AD2D51
SUMMARY:Stadtfest Vöhringen
CREATED:20230630T152915Z
DTSTAMP:20230630T152915Z
URL:https://www.musikgesellschaft-bellenberg.de/termine/stadtfest-voehringen
X-ACCESS:1
X-HITS:241
X-COLOR:3366cc
X-SHOW-END-TIME:1
END:VEVENT
BEGIN:VEVENT
DTSTART;TZID=Europe/Berlin:20230723T160000
DTEND;TZID=Europe/Berlin:20230723T203000
UID:63DD23AC-BE7C-4077-B0A7-B4AA627099DC
SUMMARY:100 Jahre FV Bellenberg
CREATED:20230403T142919Z
DTSTAMP:20230403T142919Z
URL:https://www.musikgesellschaft-bellenberg.de/termine/100-jahre-fv-bellenberg-2
LAST-MODIFIED:20230630T151923Z
SEQUENCE:7606204
X-ACCESS:1
X-HITS:406
X-COLOR:3366cc
X-SHOW-END-TIME:1
END:VEVENT
BEGIN:VEVENT
DTSTART;TZID=Europe/Berlin:20230730T110000
DTEND;TZID=Europe/Berlin:20230730T120000
UID:E18401BD-0DD7-4F1E-8C3D-EF53C26CC01F
SUMMARY:Paradekonzert Ulm
CREATED:20230403T143020Z
DTSTAMP:20230403T143020Z
URL:https://www.musikgesellschaft-bellenberg.de/termine/paradekonzert-ulm
X-ACCESS:1
X-HITS:407
X-COLOR:3366cc
X-SHOW-END-TIME:1
END:VEVENT
BEGIN:VEVENT
DTSTART;TZID=Europe/Berlin:20230820T180000
DTEND;TZID=Europe/Berlin:20230820T220000
UID:9200B45B-6461-4FE4-A683-70536874B88E
SUMMARY:Altstadtfest Illertissen
CREATED:20230113T181313Z
DTSTAMP:20230113T181313Z
URL:https://www.musikgesellschaft-bellenberg.de/termine/altstadtfest-illertissen
X-ACCESS:1
X-HITS:604
X-COLOR:3366cc
X-SHOW-END-TIME:1
END:VEVENT
BEGIN:VEVENT
DTSTART;TZID=Europe/Berlin:20230827T180000
DTEND;TZID=Europe/Berlin:20230827T210000
UID:589C42AD-EFE6-42C3-A473-84690498252D
SUMMARY:Dorfhockete Balzheim
CREATED:20230630T153150Z
DTSTAMP:20230630T153150Z
URL:https://www.musikgesellschaft-bellenberg.de/termine/dorfhockete-balzheim
X-ACCESS:1
X-HITS:351
X-COLOR:3366cc
X-SHOW-END-TIME:1
END:VEVENT
BEGIN:VEVENT
DTSTART;TZID=Europe/Berlin:20230917T103000
DTEND;TZID=Europe/Berlin:20230917T123000
UID:7199ED88-323C-496B-A8AD-FCA1BE30032D
SUMMARY:Schützenumzug Tiefenbach
CREATED:20230630T153239Z
DTSTAMP:20230630T153239Z
URL:https://www.musikgesellschaft-bellenberg.de/termine/schuetzenumzug-tiefenbach
X-ACCESS:1
X-HITS:404
X-COLOR:3366cc
X-SHOW-END-TIME:1
END:VEVENT
BEGIN:VEVENT
DTSTART;VALUE=DATE:20230924
DTEND;VALUE=DATE:20230925
UID:9FADD9C5-7CBD-4A31-9CD9-96437BCB0E57
SUMMARY:Frühschoppen Schwarzenberghütte
CREATED:20230113T181346Z
DTSTAMP:20230113T181346Z
URL:https://www.musikgesellschaft-bellenberg.de/termine/fruehschoppen-schwarzenberghuette-2
X-ACCESS:1
X-HITS:359
X-COLOR:3366cc
X-SHOW-END-TIME:0
END:VEVENT
BEGIN:VEVENT
DTSTART;VALUE=DATE:20231101
DTEND;VALUE=DATE:20231102
UID:3F81CEB2-1CE3-4DC2-9849-A6EFA7DC3549
SUMMARY:Allerheiligen
CREATED:20230113T181414Z
DTSTAMP:20230113T181414Z
URL:https://www.musikgesellschaft-bellenberg.de/termine/allerheiligen-2
X-ACCESS:1
X-HITS:373
X-COLOR:3366cc
X-SHOW-END-TIME:0
END:VEVENT
BEGIN:VEVENT
DTSTART;TZID=Europe/Berlin:20231119T093000
DTEND;TZID=Europe/Berlin:20231119T103000
UID:4F13007B-1DD5-4B51-AA77-CF63E97CCAC1
SUMMARY:Volkstrauertag
CREATED:20230113T181459Z
DTSTAMP:20230113T181459Z
URL:https://www.musikgesellschaft-bellenberg.de/termine/volkstrauertag-2
LAST-MODIFIED:20230113T181600Z
SEQUENCE:61
X-ACCESS:1
X-HITS:406
X-COLOR:3366cc
X-SHOW-END-TIME:0
END:VEVENT
BEGIN:VEVENT
DTSTART;VALUE=DATE:20231224
DTEND;VALUE=DATE:20231225
UID:3609247F-7D29-4977-A9FF-9B6917734C0D
SUMMARY:Turmblasen
CREATED:20230113T181539Z
DTSTAMP:20230113T181539Z
URL:https://www.musikgesellschaft-bellenberg.de/termine/turmblasen-2
X-ACCESS:1
X-HITS:469
X-COLOR:3366cc
X-SHOW-END-TIME:0
END:VEVENT
BEGIN:VEVENT
DTSTART;TZID=Europe/Berlin:20240217T180000
DTEND;TZID=Europe/Berlin:20240217T190000
UID:4DA0AC99-240F-405D-BE67-95F41684B316
SUMMARY:Funkenfeuer
CREATED:20240121T134350Z
DTSTAMP:20240121T134350Z
URL:https://www.musikgesellschaft-bellenberg.de/termine/funkenfeuer-2
X-ACCESS:1
X-HITS:238
X-COLOR:3366cc
X-SHOW-END-TIME:0
END:VEVENT
BEGIN:VEVENT
DTSTART;TZID=Europe/Berlin:20240316T190000
DTEND;TZID=Europe/Berlin:20240316T235900
UID:1A7E9DD2-7BC2-44BC-99A8-EBAE743DB2E4
SUMMARY:Starkbierfest
CREATED:20240121T134517Z
DTSTAMP:20240121T134517Z
URL:https://www.musikgesellschaft-bellenberg.de/termine/starkbierfest-2
LAST-MODIFIED:20240121T140657Z
SEQUENCE:1300
LOCATION:Schulstr. 7\, 89287 Bellenberg\, Bayern\, Deutschland
GEO:48.25631790;10.09118960
X-LOCATION-DISPLAYNAME:Turn- und Festhalle Bellenberg
X-ACCESS:1
X-HITS:493
X-COLOR:3366cc
X-SHOW-END-TIME:0
END:VEVENT
BEGIN:VEVENT
DTSTART;TZID=Europe/Berlin:20240430T180000
DTEND;TZID=Europe/Berlin:20240430T190000
UID:2A4CD79C-FA4B-4626-A6A6-4068354FC7B9
SUMMARY:Maibaumfeier
CREATED:20240121T134618Z
DTSTAMP:20240121T134618Z
URL:https://www.musikgesellschaft-bellenberg.de/termine/maibaumfeier-3
X-ACCESS:1
X-HITS:503
X-COLOR:3366cc
X-SHOW-END-TIME:0
END:VEVENT
BEGIN:VEVENT
DTSTART;VALUE=DATE:20240509
DTEND;VALUE=DATE:20240510
UID:EBCE64AC-15A5-436E-9373-331D7F4984C5
SUMMARY:Spätzlesfest Betlinshausen
CREATED:20240121T145242Z
DTSTAMP:20240121T145242Z
URL:https://www.musikgesellschaft-bellenberg.de/termine/spaetzlesfest-betlinshausen
X-ACCESS:1
X-HITS:636
X-COLOR:3366cc
X-SHOW-END-TIME:1
END:VEVENT
BEGIN:VEVENT
DTSTART;TZID=Europe/Berlin:20240510T183000
DTEND;TZID=Europe/Berlin:20240510T233000
UID:DF8D3CE1-95D9-43D0-9325-FA7C3B03277F
SUMMARY:Vatertagsfest Vöhringen
CREATED:20240121T134842Z
DTSTAMP:20240121T134842Z
URL:https://www.musikgesellschaft-bellenberg.de/termine/vatertagsfest-voehringen
X-ACCESS:1
X-HITS:551
X-COLOR:3366cc
X-SHOW-END-TIME:1
END:VEVENT
BEGIN:VEVENT
DTSTART;VALUE=DATE:20240518
DTEND;VALUE=DATE:20240521
UID:2B9A5C9B-B052-4FD7-A8FC-D8646C8946E0
SUMMARY:75 Jahre Freilichtbühne Bellenberg (Lippe)
CREATED:20240121T134931Z
DTSTAMP:20240121T134931Z
URL:https://www.musikgesellschaft-bellenberg.de/termine/75-jahre-freilichtbuehne-bellenberg-lippe
X-ACCESS:1
X-HITS:733
X-COLOR:3366cc
X-SHOW-END-TIME:1
END:VEVENT
BEGIN:VEVENT
DTSTART;TZID=Europe/Berlin:20240530T093000
DTEND;TZID=Europe/Berlin:20240530T103000
UID:CF503D74-2053-4FA9-AD30-07D1EF3380AF
SUMMARY:Fronleichnamsprozession
CREATED:20240121T135010Z
DTSTAMP:20240121T135010Z
URL:https://www.musikgesellschaft-bellenberg.de/termine/fronleichnamsprozession-2
X-ACCESS:1
X-HITS:353
X-COLOR:3366cc
X-SHOW-END-TIME:0
END:VEVENT
BEGIN:VEVENT
DTSTART;TZID=Europe/Berlin:20240531T180000
DTEND;TZID=Europe/Berlin:20240531T233000
UID:0402D3B0-6FE2-4DBE-8EB0-D4F2C0902439
SUMMARY:Stimmungskontest Echlishausen
CREATED:20240121T135054Z
DTSTAMP:20240121T135054Z
URL:https://www.musikgesellschaft-bellenberg.de/termine/stimmungskontest-echlishausen
X-ACCESS:1
X-HITS:483
X-COLOR:3366cc
X-SHOW-END-TIME:1
END:VEVENT
BEGIN:VEVENT
DTSTART;TZID=Europe/Berlin:20240622T153000
DTEND;TZID=Europe/Berlin:20240622T200000
UID:22BD7E36-939C-4579-8CB1-ECC6FCC21579
SUMMARY:Sportfest Ichenhausen
CREATED:20240121T135633Z
DTSTAMP:20240121T135633Z
URL:https://www.musikgesellschaft-bellenberg.de/termine/sportfest-ichenhausen
X-ACCESS:1
X-HITS:218
X-COLOR:3366cc
X-SHOW-END-TIME:1
END:VEVENT
BEGIN:VEVENT
DTSTART;VALUE=DATE:20240712
DTEND;VALUE=DATE:20240713
UID:B4EAE3DE-F7F0-4D65-AFB3-F4839640FAD3
SUMMARY:Sportfest Hochwang bei Ichenhausen
CREATED:20240121T135848Z
DTSTAMP:20240121T135848Z
URL:https://www.musikgesellschaft-bellenberg.de/termine/sportfest-hochwang-bei-ichenhausen
X-ACCESS:1
X-HITS:179
X-COLOR:3366cc
X-SHOW-END-TIME:1
END:VEVENT
BEGIN:VEVENT
DTSTART;TZID=Europe/Berlin:20240714T093000
DTEND;TZID=Europe/Berlin:20240714T103000
UID:73099D35-D904-42EC-9DCE-17B85E1A41C0
SUMMARY:Dorffest Bellenberg
CREATED:20240121T135923Z
DTSTAMP:20240121T135923Z
URL:https://www.musikgesellschaft-bellenberg.de/termine/dorffest-bellenberg-2
X-ACCESS:1
X-HITS:246
X-COLOR:3366cc
X-SHOW-END-TIME:0
END:VEVENT
BEGIN:VEVENT
DTSTART;TZID=Europe/Berlin:20240728T093000
DTEND;TZID=Europe/Berlin:20240728T130000
UID:43D282A5-BEF3-4E05-8635-FEBDAD82FF16
SUMMARY:Dorffest Holzheim
CREATED:20240121T140005Z
DTSTAMP:20240121T140005Z
URL:https://www.musikgesellschaft-bellenberg.de/termine/dorffest-holzheim
X-ACCESS:1
X-HITS:425
X-COLOR:3366cc
X-SHOW-END-TIME:1
END:VEVENT
BEGIN:VEVENT
DTSTART;VALUE=DATE:20241101
DTEND;VALUE=DATE:20241102
UID:492B5D2F-9098-4B68-B391-2400D0CAABDE
SUMMARY:Allerheiligen
CREATED:20240121T140158Z
DTSTAMP:20240121T140158Z
URL:https://www.musikgesellschaft-bellenberg.de/termine/allerheiligen-3
X-ACCESS:1
X-HITS:472
X-COLOR:3366cc
X-SHOW-END-TIME:1
END:VEVENT
BEGIN:VEVENT
DTSTART;TZID=Europe/Berlin:20241117T093000
DTEND;TZID=Europe/Berlin:20241117T103000
UID:16D9BC65-5FD9-493C-BBD4-1EE97B0A7EC1
SUMMARY:Volkstrauertag
CREATED:20240121T140229Z
DTSTAMP:20240121T140229Z
URL:https://www.musikgesellschaft-bellenberg.de/termine/volkstrauertag-3
X-ACCESS:1
X-HITS:476
X-COLOR:3366cc
X-SHOW-END-TIME:0
END:VEVENT
BEGIN:VEVENT
DTSTART;VALUE=DATE:20241224
DTEND;VALUE=DATE:20241225
UID:B05CD17E-DE57-4D62-825D-12403ED4609A
SUMMARY:Turmblasen
CREATED:20240121T140304Z
DTSTAMP:20240121T140304Z
URL:https://www.musikgesellschaft-bellenberg.de/termine/turmblasen-3
X-ACCESS:1
X-HITS:596
X-COLOR:3366cc
X-SHOW-END-TIME:1
END:VEVENT
BEGIN:VEVENT
DTSTART;TZID=Europe/Berlin:20241225T193000
DTEND;TZID=Europe/Berlin:20241225T223000
UID:479157B5-600B-4F23-90AC-CEE1543397AB
SUMMARY:Weihnachtskonzert
CREATED:20240121T140343Z
DTSTAMP:20240121T140343Z
URL:https://www.musikgesellschaft-bellenberg.de/termine/weihnachtskonzert-3
LAST-MODIFIED:20241218T190827Z
SEQUENCE:28703084
LOCATION:Schulstr. 7\, 89287 Bellenberg\, Bayern\, Deutschland
GEO:48.25631790;10.09118960
X-LOCATION-DISPLAYNAME:Turn- und Festhalle Bellenberg
X-ACCESS:1
X-HITS:548
X-COLOR:3366cc
X-SHOW-END-TIME:0
END:VEVENT
BEGIN:VEVENT
DTSTART;VALUE=DATE:20250303
DTEND;VALUE=DATE:20250304
UID:47E24E55-97EA-4B1E-BC98-2BF546D38EBF
SUMMARY:Narrensprung Bellenberg - Faschingsumzug
CREATED:20250118T173352Z
DTSTAMP:20250118T173352Z
URL:https://www.musikgesellschaft-bellenberg.de/termine/narrensprung-bellenberg-faschingsumzug
LAST-MODIFIED:20250118T173352Z
SEQUENCE:0
X-ACCESS:1
X-HITS:566
X-COLOR:3366cc
X-SHOW-END-TIME:0
END:VEVENT
BEGIN:VEVENT
DTSTART;TZID=Europe/Berlin:20250308T180000
DTEND;TZID=Europe/Berlin:20250308T190000
UID:79B59B57-9229-4092-B46E-1B966753054E
SUMMARY:Funkenfeuer
CREATED:20250118T173835Z
DTSTAMP:20250118T173835Z
URL:https://www.musikgesellschaft-bellenberg.de/termine/funkenfeuer-3
LAST-MODIFIED:20250118T173835Z
SEQUENCE:0
X-ACCESS:1
X-HITS:300
X-COLOR:3366cc
X-SHOW-END-TIME:0
END:VEVENT
BEGIN:VEVENT
DTSTART;VALUE=DATE:20250426
DTEND;VALUE=DATE:20250427
UID:5028A94D-05AB-437E-88A8-FC1D3558B49C
SUMMARY:Wertungsspiel Illertissen
CREATED:20250118T171737Z
DTSTAMP:20250118T171737Z
URL:https://www.musikgesellschaft-bellenberg.de/termine/wertungsspiel-illertissen
LAST-MODIFIED:20250118T171737Z
SEQUENCE:0
X-ACCESS:1
X-HITS:403
X-COLOR:3366cc
X-SHOW-END-TIME:0
END:VEVENT
BEGIN:VEVENT
DTSTART;TZID=Europe/Berlin:20250430T180000
DTEND;TZID=Europe/Berlin:20250430T190000
UID:454080BB-3848-470C-96F2-019109A15BF7
SUMMARY:Maibaumfeier
CREATED:20250118T173908Z
DTSTAMP:20250118T173908Z
URL:https://www.musikgesellschaft-bellenberg.de/termine/maibaumfeier-4
LAST-MODIFIED:20250118T173908Z
SEQUENCE:0
X-ACCESS:1
X-HITS:376
X-COLOR:3366cc
X-SHOW-END-TIME:0
END:VEVENT
BEGIN:VEVENT
DTSTART;TZID=Europe/Berlin:20250518T180000
DTEND;TZID=Europe/Berlin:20250518T220000
UID:387E9119-20EE-489F-8BB2-8D04FFD2077D
SUMMARY:FFW 150 Jahre Stoffenried
CREATED:20250118T171842Z
DTSTAMP:20250118T171842Z
URL:https://www.musikgesellschaft-bellenberg.de/termine/ffw-150-jahre-stoffenried
LAST-MODIFIED:20250118T171842Z
SEQUENCE:0
X-ACCESS:1
X-HITS:326
X-COLOR:3366cc
X-SHOW-END-TIME:1
END:VEVENT
BEGIN:VEVENT
DTSTART;VALUE=DATE:20250531
DTEND;VALUE=DATE:20250601
UID:04A4F1DA-06A2-43F3-BC30-E64A0878611A
SUMMARY:Wertungsspiel Deutsches Musikfest
CREATED:20250118T171931Z
DTSTAMP:20250118T171931Z
URL:https://www.musikgesellschaft-bellenberg.de/termine/wertungsspiel-deutsches-musikfest
LAST-MODIFIED:20250118T171931Z
SEQUENCE:0
X-ACCESS:1
X-HITS:431
X-COLOR:3366cc
X-SHOW-END-TIME:0
END:VEVENT
BEGIN:VEVENT
DTSTART;VALUE=DATE:20250601
DTEND;VALUE=DATE:20250602
UID:A55E4BFE-49BB-448D-8A60-B6BF23F0AF92
SUMMARY:Umzug Deutsches Musikfest
CREATED:20250118T172020Z
DTSTAMP:20250118T172020Z
URL:https://www.musikgesellschaft-bellenberg.de/termine/umzug-deutsches-musikfest
LAST-MODIFIED:20250118T172020Z
SEQUENCE:0
X-ACCESS:1
X-HITS:334
X-COLOR:3366cc
X-SHOW-END-TIME:0
END:VEVENT
BEGIN:VEVENT
DTSTART;TZID=Europe/Berlin:20250619T093000
DTEND;TZID=Europe/Berlin:20250619T103000
UID:6F86EAD8-FCEC-45D4-AEA4-CC892D3E6C4A
SUMMARY:Fronleichnamsprozession
CREATED:20250118T174003Z
DTSTAMP:20250118T174003Z
URL:https://www.musikgesellschaft-bellenberg.de/termine/fronleichnamsprozession-3
LAST-MODIFIED:20250118T174003Z
SEQUENCE:0
X-ACCESS:1
X-HITS:332
X-COLOR:3366cc
X-SHOW-END-TIME:0
END:VEVENT
BEGIN:VEVENT
DTSTART;TZID=Europe/Berlin:20250622T173000
DTEND;TZID=Europe/Berlin:20250622T210000
UID:5F03221F-8AE4-496F-B6D2-538E2464C6D9
SUMMARY:Gartenfest Kissendorf
CREATED:20250118T172137Z
DTSTAMP:20250118T172137Z
URL:https://www.musikgesellschaft-bellenberg.de/termine/gartenfest-kissendorf
LAST-MODIFIED:20250118T172137Z
SEQUENCE:0
X-ACCESS:1
X-HITS:389
X-COLOR:3366cc
X-SHOW-END-TIME:1
END:VEVENT
BEGIN:VEVENT
DTSTART;TZID=Europe/Berlin:20250705T200000
DTEND;TZID=Europe/Berlin:20250705T235500
UID:35FCEF43-CF1A-49F8-9B28-E2F725C7A235
SUMMARY:Gartenfest Jedesheim
CREATED:20250118T172236Z
DTSTAMP:20250118T172236Z
URL:https://www.musikgesellschaft-bellenberg.de/termine/gartenfest-jedesheim
LAST-MODIFIED:20250118T172236Z
SEQUENCE:0
X-ACCESS:1
X-HITS:320
X-COLOR:3366cc
X-SHOW-END-TIME:1
END:VEVENT
BEGIN:VEVENT
DTSTART;VALUE=DATE:20251101
DTEND;VALUE=DATE:20251102
UID:1CC174DE-7169-4894-820B-060C26E86FF7
SUMMARY:Allerheiligen
CREATED:20250118T174211Z
DTSTAMP:20250118T174211Z
URL:https://www.musikgesellschaft-bellenberg.de/termine/allerheiligen-4
LAST-MODIFIED:20250118T174211Z
SEQUENCE:0
X-ACCESS:1
X-HITS:657
X-COLOR:3366cc
X-SHOW-END-TIME:0
END:VEVENT
BEGIN:VEVENT
DTSTART;TZID=Europe/Berlin:20251111T093000
DTEND;TZID=Europe/Berlin:20251111T103000
UID:EBD93FA7-FD35-4581-BFC7-49C59817F34E
SUMMARY:Volkstrauertag
CREATED:20250118T174244Z
DTSTAMP:20250118T174244Z
URL:https://www.musikgesellschaft-bellenberg.de/termine/volkstrauertag-4
LAST-MODIFIED:20250118T174244Z
SEQUENCE:0
X-ACCESS:1
X-HITS:618
X-COLOR:3366cc
X-SHOW-END-TIME:0
END:VEVENT
BEGIN:VEVENT
DTSTART;VALUE=DATE:20251224
DTEND;VALUE=DATE:20251225
UID:546AC110-8FA2-4E4A-83B0-C3E5636878FC
SUMMARY:Turmblasen
CREATED:20250118T174402Z
DTSTAMP:20250118T174402Z
URL:https://www.musikgesellschaft-bellenberg.de/termine/turmblasen-4
LAST-MODIFIED:20250118T174402Z
SEQUENCE:0
X-ACCESS:1
X-HITS:739
X-COLOR:3366cc
X-SHOW-END-TIME:1
END:VEVENT
BEGIN:VEVENT
DTSTART;TZID=Europe/Berlin:20251225T193000
DTEND;TZID=Europe/Berlin:20251225T203000
UID:A2ED8F76-2E6C-423B-9D5B-A091808EFD44
SUMMARY:Weihnachtskonzert
CREATED:20250118T174433Z
DTSTAMP:20250118T174433Z
URL:https://www.musikgesellschaft-bellenberg.de/termine/weihnachtskonzert-4
LAST-MODIFIED:20250118T174433Z
SEQUENCE:0
X-ACCESS:1
X-HITS:813
X-COLOR:3366cc
X-SHOW-END-TIME:0
END:VEVENT
BEGIN:VEVENT
DTSTART;TZID=Europe/Berlin:20260221T180000
DTEND;TZID=Europe/Berlin:20260221T190000
UID:ACA04EA6-C886-48D8-8773-9531AD15F429
SUMMARY:Funkenfeuer
CREATED:20251223T150722Z
DTSTAMP:20251223T150722Z
URL:https://www.musikgesellschaft-bellenberg.de/termine/funkenfeuer-4
LAST-MODIFIED:20251223T151128Z
SEQUENCE:246
X-ACCESS:1
X-HITS:488
X-COLOR:3366cc
X-SHOW-END-TIME:0
END:VEVENT
BEGIN:VEVENT
DTSTART;TZID=Europe/Berlin:20260430T180000
DTEND;TZID=Europe/Berlin:20260430T190000
UID:D52F19C7-D83F-483F-A280-28872CF7C322
SUMMARY:Maibaumfeier
CREATED:20251223T151003Z
DTSTAMP:20251223T151003Z
URL:https://www.musikgesellschaft-bellenberg.de/termine/maibaumfeier-5
LAST-MODIFIED:20251223T151104Z
SEQUENCE:61
X-ACCESS:1
X-HITS:484
X-COLOR:3366cc
X-SHOW-END-TIME:0
END:VEVENT
BEGIN:VEVENT
DTSTART;TZID=Europe/Berlin:20260604T093000
DTEND;TZID=Europe/Berlin:20260604T103000
UID:A130A1D8-76D5-4A99-A834-E64743AD2992
SUMMARY:Fronleichnamsprozession
CREATED:20251223T151319Z
DTSTAMP:20251223T151319Z
URL:https://www.musikgesellschaft-bellenberg.de/termine/fronleichnamsprozession-4
LAST-MODIFIED:20251223T151319Z
SEQUENCE:0
X-ACCESS:1
X-HITS:479
X-COLOR:3366cc
X-SHOW-END-TIME:0
END:VEVENT
BEGIN:VEVENT
DTSTART;TZID=Europe/Berlin:20260621T103000
DTEND;TZID=Europe/Berlin:20260621T133000
UID:E3754E18-0594-4DED-886D-0BAA43430C1C
SUMMARY:Jubiläumsfest in Au
CREATED:20251223T151544Z
DTSTAMP:20251223T151544Z
URL:https://www.musikgesellschaft-bellenberg.de/termine/jubilaeumsfest-in-au
LAST-MODIFIED:20251223T151544Z
SEQUENCE:0
X-ACCESS:1
X-HITS:12
X-COLOR:3366cc
X-SHOW-END-TIME:1
END:VEVENT
BEGIN:VEVENT
DTSTART;VALUE=DATE:20261101
DTEND;VALUE=DATE:20261102
UID:F8911BEA-F63B-4407-BA0F-C2A12B76636B
SUMMARY:Allerheiligen
CREATED:20251223T151636Z
DTSTAMP:20251223T151636Z
URL:https://www.musikgesellschaft-bellenberg.de/termine/allerheiligen-5
LAST-MODIFIED:20251223T151636Z
SEQUENCE:0
X-ACCESS:1
X-HITS:0
X-COLOR:3366cc
X-SHOW-END-TIME:1
END:VEVENT
BEGIN:VEVENT
DTSTART;TZID=Europe/Berlin:20261115T093000
DTEND;TZID=Europe/Berlin:20261115T103000
UID:2499F1B9-DFD4-42F3-8B22-571AA1923B96
SUMMARY:Volkstrauertag
CREATED:20251223T151737Z
DTSTAMP:20251223T151737Z
URL:https://www.musikgesellschaft-bellenberg.de/termine/volkstrauertag-5
LAST-MODIFIED:20251223T151737Z
SEQUENCE:0
X-ACCESS:1
X-HITS:0
X-COLOR:3366cc
X-SHOW-END-TIME:0
END:VEVENT
BEGIN:VEVENT
DTSTART;VALUE=DATE:20261224
DTEND;VALUE=DATE:20261225
UID:0E947421-7CC4-4A8D-84E9-64A8A87806E6
SUMMARY:Turmblasen
CREATED:20251223T151817Z
DTSTAMP:20251223T151817Z
URL:https://www.musikgesellschaft-bellenberg.de/termine/turmblasen-5
LAST-MODIFIED:20251223T151817Z
SEQUENCE:0
X-ACCESS:1
X-HITS:0
X-COLOR:3366cc
X-SHOW-END-TIME:1
END:VEVENT
END:VCALENDAR