BEGIN:VCALENDAR
VERSION:2.0
PRODID:DPCALENDAR
CALSCALE:GREGORIAN
BEGIN:VTIMEZONE
TZID:Europe/Berlin
X-MICROSOFT-CDO-TZID:4
BEGIN:STANDARD
DTSTART:20251026T010000
TZOFFSETFROM:+0200
TZOFFSETTO:+0100
TZNAME:CET
END:STANDARD
BEGIN:STANDARD
DTSTART:20261025T010000
TZOFFSETFROM:+0200
TZOFFSETTO:+0100
TZNAME:CET
END:STANDARD
BEGIN:DAYLIGHT
DTSTART:20260329T010000
TZOFFSETFROM:+0100
TZOFFSETTO:+0200
TZNAME:CEST
END:DAYLIGHT
END:VTIMEZONE
X-WR-TIMEZONE:Europe/Berlin
BEGIN:VEVENT
DTSTART;VALUE=DATE:20220924
DTEND;VALUE=DATE:20220925
UID:6CAC7C8B-A164-419D-A90A-631451FB64CA
SUMMARY:Alteisensammlung
CREATED:20220314T181603Z
DTSTAMP:20220314T181603Z
URL:https://www.musikgesellschaft-bellenberg.de/termine/alteisensammlung
LAST-MODIFIED:20220410T080333Z
SEQUENCE:2296050
X-ACCESS:1
X-HITS:592
X-COLOR:3366cc
X-SHOW-END-TIME:1
END:VEVENT
BEGIN:VEVENT
DTSTART;VALUE=DATE:20240921
DTEND;VALUE=DATE:20240922
UID:279366BF-0469-4030-8B87-145A72B9BB04
SUMMARY:Alteisensammlung
CREATED:20240121T140101Z
DTSTAMP:20240121T140101Z
URL:https://www.musikgesellschaft-bellenberg.de/termine/alteisensammlung-2
X-ACCESS:1
X-HITS:276
X-COLOR:3366cc
X-SHOW-END-TIME:1
END:VEVENT
BEGIN:VEVENT
DTSTART;VALUE=DATE:20260501
DTEND;VALUE=DATE:20260502
UID:F328E339-F5B7-4459-B8AC-411360A0E210
SUMMARY:Maientour
CREATED:20251223T151211Z
DTSTAMP:20251223T151211Z
URL:https://www.musikgesellschaft-bellenberg.de/termine/maientour
LAST-MODIFIED:20251223T151329Z
SEQUENCE:78
X-ACCESS:1
X-HITS:471
X-COLOR:3366cc
X-SHOW-END-TIME:1
END:VEVENT
END:VCALENDAR